BEGIN:VCALENDAR
VERSION:2.0
PRODID:-//wp-events-plugin.com//7.2.3.1//EN
BEGIN:VEVENT
UID:84@jugendbeirat-regensburg.de
DTSTART;TZID=Europe/Berlin:20230705T160000
DTEND;TZID=Europe/Berlin:20230705T173000
DTSTAMP:20230705T092616Z
URL:https://www.jugendbeirat-regensburg.de/events/ag-oeffentlichkeitsarbei
 t/
SUMMARY:AG Öffentlichkeitsarbeit
DESCRIPTION:Wir treffen uns um 16 Uhr im W1-Kollektivbüro (Weingasse 1 | 9
 3047 Regensburg)
END:VEVENT
BEGIN:VTIMEZONE
TZID:Europe/Berlin
X-LIC-LOCATION:Europe/Berlin
BEGIN:DAYLIGHT
DTSTART:20230326T030000
TZOFFSETFROM:+0100
TZOFFSETTO:+0200
TZNAME:CEST
END:DAYLIGHT
END:VTIMEZONE
END:VCALENDAR