BEGIN:VCALENDAR
VERSION:2.0
PRODID:-//wp-events-plugin.com//7.2.3.1//EN
BEGIN:VEVENT
UID:70@jugendbeirat-regensburg.de
DTSTART;TZID=Europe/Berlin:20230325T000000
DTEND;TZID=Europe/Berlin:20230326T000000
DTSTAMP:20230406T165312Z
URL:https://www.jugendbeirat-regensburg.de/events/ideenwerkstatt-jugendbei
 rat/
SUMMARY:Ideenwerkstatt Jugendbeirat
DESCRIPTION:
END:VEVENT
BEGIN:VTIMEZONE
TZID:Europe/Berlin
X-LIC-LOCATION:Europe/Berlin
BEGIN:STANDARD
DTSTART:20221030T020000
TZOFFSETFROM:+0200
TZOFFSETTO:+0100
TZNAME:CET
END:STANDARD
END:VTIMEZONE
END:VCALENDAR