BEGIN:VCALENDAR
VERSION:2.0
PRODID:-//wp-events-plugin.com//7.2.3.1//EN
BEGIN:VEVENT
UID:26@jugendbeirat-regensburg.de
DTSTART;TZID=Europe/Berlin:20221114T080000
DTEND;TZID=Europe/Berlin:20221114T130000
DTSTAMP:20221026T084213Z
URL:https://www.jugendbeirat-regensburg.de/events/planspiel-11/
SUMMARY:Planspiel
DESCRIPTION:Planspiel an der Willi-Ulfig-Mittelschule
CATEGORIES:Planspiel
LOCATION:Willi-Ulfig-Mittelschule\, Isarstr. 24\, Regensburg \, Deutschland
X-APPLE-STRUCTURED-LOCATION;VALUE=URI;X-ADDRESS=Isarstr. 24\, Regensburg \,
  Deutschland;X-APPLE-RADIUS=100;X-TITLE=Willi-Ulfig-Mittelschule:geo:0,0
END:VEVENT
BEGIN:VTIMEZONE
TZID:Europe/Berlin
X-LIC-LOCATION:Europe/Berlin
BEGIN:STANDARD
DTSTART:20221030T020000
TZOFFSETFROM:+0200
TZOFFSETTO:+0100
TZNAME:CET
END:STANDARD
END:VTIMEZONE
END:VCALENDAR