BEGIN:VCALENDAR
VERSION:2.0
PRODID:-//wp-events-plugin.com//7.2.3.1//EN
BEGIN:VEVENT
UID:27@jugendbeirat-regensburg.de
DTSTART;TZID=Europe/Berlin:20221115T080000
DTEND;TZID=Europe/Berlin:20221115T130000
DTSTAMP:20221026T084251Z
URL:https://www.jugendbeirat-regensburg.de/events/planspiel-12/
SUMMARY:Planspiel
DESCRIPTION:Planspiel am Werner-von-Siemens-Gymnasium
CATEGORIES:Planspiel
LOCATION:Werner-von-Siemens-Gymnasium\, Brennesstr. 4\, Regensburg \, Deuts
 chland
X-APPLE-STRUCTURED-LOCATION;VALUE=URI;X-ADDRESS=Brennesstr. 4\, Regensburg 
 \, Deutschland;X-APPLE-RADIUS=100;X-TITLE=Werner-von-Siemens-Gymnasium:geo
 :0,0
END:VEVENT
BEGIN:VTIMEZONE
TZID:Europe/Berlin
X-LIC-LOCATION:Europe/Berlin
BEGIN:STANDARD
DTSTART:20221030T020000
TZOFFSETFROM:+0200
TZOFFSETTO:+0100
TZNAME:CET
END:STANDARD
END:VTIMEZONE
END:VCALENDAR