BEGIN:VCALENDAR
VERSION:2.0
PRODID:-//wp-events-plugin.com//7.2.3.1//EN
BEGIN:VEVENT
UID:23@jugendbeirat-regensburg.de
DTSTART;TZID=Europe/Berlin:20221028T080000
DTEND;TZID=Europe/Berlin:20221028T130000
DTSTAMP:20221026T084109Z
URL:https://www.jugendbeirat-regensburg.de/events/planspiel-8/
SUMMARY:Planspiel
DESCRIPTION:Planspiel am Von-Müller-Gymnasium
CATEGORIES:Planspiel
LOCATION:Von-Müller-Gymnasium\,  Erzbischof-Buchberger-Allee 23\, Regensbu
 rg\, Deutschland
X-APPLE-STRUCTURED-LOCATION;VALUE=URI;X-ADDRESS= Erzbischof-Buchberger-Alle
 e 23\, Regensburg\, Deutschland;X-APPLE-RADIUS=100;X-TITLE=Von-Müller-Gym
 nasium:geo:0,0
END:VEVENT
BEGIN:VTIMEZONE
TZID:Europe/Berlin
X-LIC-LOCATION:Europe/Berlin
BEGIN:DAYLIGHT
DTSTART:20220327T030000
TZOFFSETFROM:+0100
TZOFFSETTO:+0200
TZNAME:CEST
END:DAYLIGHT
END:VTIMEZONE
END:VCALENDAR