BEGIN:VCALENDAR
VERSION:2.0
PRODID:-//wp-events-plugin.com//7.2.3.1//EN
BEGIN:VEVENT
UID:24@jugendbeirat-regensburg.de
DTSTART;TZID=Europe/Berlin:20221108T080000
DTEND;TZID=Europe/Berlin:20221108T130000
DTSTAMP:20221026T084130Z
URL:https://www.jugendbeirat-regensburg.de/events/planspiel-9/
SUMMARY:Planspiel
DESCRIPTION:Planspiel an der Clermont-Ferrand Schule
CATEGORIES:Planspiel
LOCATION:Clermont-Ferrand Schule\, Clermont-Ferrand-Allee 23 \, Regensburg\
 , Deutschland
X-APPLE-STRUCTURED-LOCATION;VALUE=URI;X-ADDRESS=Clermont-Ferrand-Allee 23 \
 , Regensburg\, Deutschland;X-APPLE-RADIUS=100;X-TITLE=Clermont-Ferrand Sch
 ule:geo:0,0
END:VEVENT
BEGIN:VTIMEZONE
TZID:Europe/Berlin
X-LIC-LOCATION:Europe/Berlin
BEGIN:STANDARD
DTSTART:20221030T020000
TZOFFSETFROM:+0200
TZOFFSETTO:+0100
TZNAME:CET
END:STANDARD
END:VTIMEZONE
END:VCALENDAR