BEGIN:VCALENDAR
VERSION:2.0
PRODID:-//wp-events-plugin.com//7.2.3.1//EN
BEGIN:VEVENT
UID:106@jugendbeirat-regensburg.de
DTSTART;TZID=Europe/Berlin:20241011T150000
DTEND;TZID=Europe/Berlin:20241011T170000
DTSTAMP:20241008T130351Z
URL:https://www.jugendbeirat-regensburg.de/events/plenum-6/
SUMMARY:Plenum
DESCRIPTION:Wir laden herzlich zum Oktober-Plenum im Sitzungssaal Neues Rat
 haus ein.\n\nVorläufige Tagesordnung:\n\n 	Begrüßung\n 	Aktuelles aus d
 em Rathaus – OB Maltz-Schwarzfischer\n 	Wahl stellvertretender Vorsitz /
  Nachfolge Z. Passily\n 	Berichte (Vorstand / Arbeitsgruppen / Dachverband
  Jugendparlamente)\n 	Bericht der Geschäftsstelle\n\n&nbsp\;\n\n&nbsp\;
ATTACH;FMTTYPE=image/jpeg:https://www.jugendbeirat-regensburg.de/wp-conten
 t/uploads/g405-299469-scaled.jpg
CATEGORIES:Plenumssitzung
END:VEVENT
BEGIN:VTIMEZONE
TZID:Europe/Berlin
X-LIC-LOCATION:Europe/Berlin
BEGIN:DAYLIGHT
DTSTART:20240331T030000
TZOFFSETFROM:+0100
TZOFFSETTO:+0200
TZNAME:CEST
END:DAYLIGHT
END:VTIMEZONE
END:VCALENDAR