BEGIN:VCALENDAR
VERSION:2.0
PRODID:-//wp-events-plugin.com//7.2.3.1//EN
BEGIN:VEVENT
UID:109@jugendbeirat-regensburg.de
DTSTART;TZID=Europe/Berlin:20250228T150000
DTEND;TZID=Europe/Berlin:20250228T170000
DTSTAMP:20250124T122939Z
URL:https://www.jugendbeirat-regensburg.de/events/plenum-februar/
SUMMARY:Plenum Februar
DESCRIPTION:Sitzungssaal Neues Rathaus
CATEGORIES:Plenumssitzung
END:VEVENT
BEGIN:VTIMEZONE
TZID:Europe/Berlin
X-LIC-LOCATION:Europe/Berlin
BEGIN:STANDARD
DTSTART:20241027T020000
TZOFFSETFROM:+0200
TZOFFSETTO:+0100
TZNAME:CET
END:STANDARD
END:VTIMEZONE
END:VCALENDAR