BEGIN:VCALENDAR
VERSION:2.0
PRODID:-//wp-events-plugin.com//7.2.3.1//EN
BEGIN:VEVENT
UID:108@jugendbeirat-regensburg.de
DTSTART;TZID=Europe/Berlin:20250124T150000
DTEND;TZID=Europe/Berlin:20250124T170000
DTSTAMP:20250124T122831Z
URL:https://www.jugendbeirat-regensburg.de/events/plenum-januar/
SUMMARY:Plenum Januar
DESCRIPTION:Vorläufige Tagesordnung:\n\n 	Begrüßung\n 	Aktuelles aus dem
  Rathaus - Frau OB Maltz-Schwarzfischer\n 	Antrag auf Förderung / P-Semin
 ar AAG\n 	Berichte (Vorstand / Arbeitsgruppen / DVBJ)\n 	Bericht der Gesch
 äftsstelle / Jugendbeiratswahl 2025\n\nSonstiges
ATTACH;FMTTYPE=image/jpeg:https://www.jugendbeirat-regensburg.de/wp-conten
 t/uploads/g406-299517-scaled.jpg
CATEGORIES:Plenumssitzung
END:VEVENT
BEGIN:VTIMEZONE
TZID:Europe/Berlin
X-LIC-LOCATION:Europe/Berlin
BEGIN:STANDARD
DTSTART:20241027T020000
TZOFFSETFROM:+0200
TZOFFSETTO:+0100
TZNAME:CET
END:STANDARD
END:VTIMEZONE
END:VCALENDAR