BEGIN:VCALENDAR
VERSION:2.0
PRODID:-//wp-events-plugin.com//7.2.3.1//EN
BEGIN:VEVENT
UID:46@jugendbeirat-regensburg.de
DTSTART;TZID=Europe/Berlin:20230228T080000
DTEND;TZID=Europe/Berlin:20230228T130000
DTSTAMP:20230301T120941Z
URL:https://www.jugendbeirat-regensburg.de/events/wahllokal-bischof-manfre
 d-mueller-schule/
SUMMARY:Wahllokal Bischof Manfred Müller Schule
DESCRIPTION:
END:VEVENT
BEGIN:VTIMEZONE
TZID:Europe/Berlin
X-LIC-LOCATION:Europe/Berlin
BEGIN:STANDARD
DTSTART:20221030T020000
TZOFFSETFROM:+0200
TZOFFSETTO:+0100
TZNAME:CET
END:STANDARD
END:VTIMEZONE
END:VCALENDAR